BEGIN:VCALENDAR
VERSION:2.0
PRODID:-//NIPIGON DISTRICT FAMILY HEALTH TEAM - ECPv6.15.20//NONSGML v1.0//EN
CALSCALE:GREGORIAN
METHOD:PUBLISH
X-WR-CALNAME:NIPIGON DISTRICT FAMILY HEALTH TEAM
X-ORIGINAL-URL:https://ndfht.ca
X-WR-CALDESC:Events for NIPIGON DISTRICT FAMILY HEALTH TEAM
REFRESH-INTERVAL;VALUE=DURATION:PT1H
X-Robots-Tag:noindex
X-PUBLISHED-TTL:PT1H
BEGIN:VTIMEZONE
TZID:UTC
BEGIN:STANDARD
TZOFFSETFROM:+0000
TZOFFSETTO:+0000
TZNAME:UTC
DTSTART:20250101T000000
END:STANDARD
END:VTIMEZONE
BEGIN:VEVENT
DTSTART;TZID=UTC:20260326T183000
DTEND;TZID=UTC:20260326T200000
DTSTAMP:20260420T174748
CREATED:20260220T154355Z
LAST-MODIFIED:20260220T162845Z
UID:1897-1774549800-1774555200@ndfht.ca
SUMMARY:Indoor Winter Walking Club
DESCRIPTION:It’s that time of year again!\n\n\n\nLace up your shoes\, and come join the Nipigon District Family Health Team for the annual Indoor Winter Walking Club!\n\n\n\nWhere: Nipigon-Red Rock District Highschool\nWhen: Tuesday/Thursday’s – 6:30-8:00pm\n\n\n\nThis is a free program\, open to all ages/abilities!\n\n\n\nInterested in volunteering? Contact the Family Health Team office at 807-887-5252 ext. 4 for more information.\n\n\n\nWe look forward to seeing you there!
URL:https://ndfht.ca/event/indoor-winter-walking-club-16/
LOCATION:Nipigon-Red Rock District High School\, 20 Frost Street\, Red Rock\, Ontario\, P0T 2P0\, Canada
CATEGORIES:Community Outreach,Walking
ATTACH;FMTTYPE=image/png:https://ndfht.ca/wp-content/uploads/2025/09/PosterWalking-Program2025.png
ORGANIZER;CN="Nipigon District Family Health Team":MAILTO:reception@ndfht.ca
END:VEVENT
BEGIN:VEVENT
DTSTART;TZID=UTC:20260325T130000
DTEND;TZID=UTC:20260325T150000
DTSTAMP:20260420T174748
CREATED:20260220T160542Z
LAST-MODIFIED:20260220T160543Z
UID:1899-1774443600-1774450800@ndfht.ca
SUMMARY:Nipigon Mobile Health Clinic
DESCRIPTION: Mobile Health Clinic – Everyone Welcome! \nJoin us on March 25th from 1–3 PM at the Nipigon Baptist Church for a Mobile Health Clinic in your community! Stop by to have your blood pressure and blood sugars checked\, get vaccines (including flu\, tetanus\, and pneumonia)\, and arrange follow-up appointments if needed. \n Bonus: A free hot lunch of soup will be available while supplies last! \nNo appointment needed\, all are welcome. Come take care of your health and enjoy a warm meal—we’d love to see you there! 
URL:https://ndfht.ca/event/nipigon-mobile-health-clinic-2/
LOCATION:Nipigon Baptist Church\, 161 5th St\, Nipigon\, ON\, P0T 2J0\, Canada
CATEGORIES:Community Outreach
ATTACH;FMTTYPE=image/png:https://ndfht.ca/wp-content/uploads/2026/02/Mar-25-SoupMHC.png
ORGANIZER;CN="Nipigon District Family Health Team":MAILTO:reception@ndfht.ca
END:VEVENT
BEGIN:VEVENT
DTSTART;TZID=UTC:20260324T183000
DTEND;TZID=UTC:20260324T200000
DTSTAMP:20260420T174748
CREATED:20260220T154303Z
LAST-MODIFIED:20260220T162825Z
UID:1895-1774377000-1774382400@ndfht.ca
SUMMARY:Indoor Winter Walking Club
DESCRIPTION:It’s that time of year again!\n\n\n\nLace up your shoes\, and come join the Nipigon District Family Health Team for the annual Indoor Winter Walking Club!\n\n\n\nWhere: Nipigon-Red Rock District Highschool\nWhen: Tuesday/Thursday’s – 6:30-8:00pm\n\n\n\nThis is a free program\, open to all ages/abilities!\n\n\n\nInterested in volunteering? Contact the Family Health Team office at 807-887-5252 ext. 4 for more information.\n\n\n\nWe look forward to seeing you there!
URL:https://ndfht.ca/event/indoor-winter-walking-club-15/
LOCATION:Nipigon-Red Rock District High School\, 20 Frost Street\, Red Rock\, Ontario\, P0T 2P0\, Canada
CATEGORIES:Community Outreach,Walking
ATTACH;FMTTYPE=image/png:https://ndfht.ca/wp-content/uploads/2025/09/PosterWalking-Program2025.png
ORGANIZER;CN="Nipigon District Family Health Team":MAILTO:reception@ndfht.ca
END:VEVENT
END:VCALENDAR