BEGIN:VCALENDAR
VERSION:2.0
PRODID:-//NIPIGON DISTRICT FAMILY HEALTH TEAM - ECPv6.15.20//NONSGML v1.0//EN
CALSCALE:GREGORIAN
METHOD:PUBLISH
X-ORIGINAL-URL:https://ndfht.ca
X-WR-CALDESC:Events for NIPIGON DISTRICT FAMILY HEALTH TEAM
REFRESH-INTERVAL;VALUE=DURATION:PT1H
X-Robots-Tag:noindex
X-PUBLISHED-TTL:PT1H
BEGIN:VTIMEZONE
TZID:UTC
BEGIN:STANDARD
TZOFFSETFROM:+0000
TZOFFSETTO:+0000
TZNAME:UTC
DTSTART:20250101T000000
END:STANDARD
END:VTIMEZONE
BEGIN:VEVENT
DTSTART;TZID=UTC:20260423T100000
DTEND;TZID=UTC:20260423T120000
DTSTAMP:20260420T112854
CREATED:20260327T195605Z
LAST-MODIFIED:20260406T193346Z
UID:1949-1776938400-1776945600@ndfht.ca
SUMMARY:Red Rock Mobile Health Clinic
DESCRIPTION:The Nipigon District Family Health Team will be at our next walk-in Mobile Health Clinic at the Red Rock Recreation Centre\, Thursday\, April 23 –  located at 39 Brompton Rd\, Red Rock from 10:00-12:00pm.\n\n\n\nOur services include:\n• Blood Pressure Checks\n• Vaccines(Pneumonia/Tetanus)\n• Blood Sugar Checks\n• On-site follow-up scheduling with healthcare providers\n• A welcoming space to enjoy coffee and conversation with other locals\n\n\n\nWe look forward to supporting the community’s health — one visit at a time!
URL:https://ndfht.ca/event/red-rock-mobile-health-clinic/
LOCATION:Red Rock Recreation Centre\, 39 Brompton Rd.\, Red Rock\, ON\, P0T 2P0\, Canada
CATEGORIES:Community Outreach
ATTACH;FMTTYPE=image/png:https://ndfht.ca/wp-content/uploads/2026/03/RRApr23-MHC.png
ORGANIZER;CN="Nipigon District Family Health Team":MAILTO:reception@ndfht.ca
END:VEVENT
BEGIN:VEVENT
DTSTART;TZID=UTC:20260423T183000
DTEND;TZID=UTC:20260423T200000
DTSTAMP:20260420T112854
CREATED:20260327T172439Z
LAST-MODIFIED:20260327T172440Z
UID:1939-1776969000-1776974400@ndfht.ca
SUMMARY:Indoor Winter Walking Club
DESCRIPTION:It’s that time of year again!\n\n\n\nLace up your shoes\, and come join the Nipigon District Family Health Team for the annual Indoor Winter Walking Club!\n\n\n\nWhere: Nipigon-Red Rock District Highschool\nWhen: Tuesday/Thursday’s – 6:30-8:00pm\nUntil April 30th\, 2026\n\n\n\nThis is a free program\, open to all ages/abilities!\n\n\n\nInterested in volunteering? Contact the Family Health Team office at 807-887-5252 ext. 4 for more information.\n\n\n\nWe look forward to seeing you there!
URL:https://ndfht.ca/event/indoor-winter-walking-club-11/
LOCATION:Nipigon-Red Rock District High School\, 20 Frost Street\, Red Rock\, Ontario\, P0T 2P0\, Canada
CATEGORIES:Community Outreach,Walking
ATTACH;FMTTYPE=image/png:https://ndfht.ca/wp-content/uploads/2026/03/Blue-and-Gray-Modern-Run-Walk-Poster.png
ORGANIZER;CN="Nipigon District Family Health Team":MAILTO:reception@ndfht.ca
END:VEVENT
END:VCALENDAR