BEGIN:VCALENDAR
VERSION:2.0
PRODID:-//NIPIGON DISTRICT FAMILY HEALTH TEAM - ECPv6.15.20//NONSGML v1.0//EN
CALSCALE:GREGORIAN
METHOD:PUBLISH
X-WR-CALNAME:NIPIGON DISTRICT FAMILY HEALTH TEAM
X-ORIGINAL-URL:https://ndfht.ca
X-WR-CALDESC:Events for NIPIGON DISTRICT FAMILY HEALTH TEAM
REFRESH-INTERVAL;VALUE=DURATION:PT1H
X-Robots-Tag:noindex
X-PUBLISHED-TTL:PT1H
BEGIN:VTIMEZONE
TZID:UTC
BEGIN:STANDARD
TZOFFSETFROM:+0000
TZOFFSETTO:+0000
TZNAME:UTC
DTSTART:20250101T000000
END:STANDARD
END:VTIMEZONE
BEGIN:VEVENT
DTSTART;TZID=UTC:20260410T120000
DTEND;TZID=UTC:20260410T140000
DTSTAMP:20260420T112429
CREATED:20260327T131345Z
LAST-MODIFIED:20260327T131345Z
UID:1931-1775822400-1775829600@ndfht.ca
SUMMARY:Cooking Classes with the Registered Dietitian
DESCRIPTION: Monthly Cooking Classes at Hurkett Community Centre!  \nJoin us the first Friday of every month\, from 12–2 PM for fun\, hands-on cooking classes at the Hurkett Community Centre! \nThis month’s session is on April 10\, 2026. \n Why come? \n– Build social connections \n– Improve your cooking skills \n– Learn about nutrition with a Registered Dietitian \nAll skill levels are welcome. Come cook\, learn\, and enjoy good food together—we can’t wait to see you there! 
URL:https://ndfht.ca/event/cooking-classes-with-the-registered-dietitian/
LOCATION:Hurkett Community Centre\, 110 Hwy 582\, Hurkett\, ON\, P0T 2J0\, Canada
CATEGORIES:Community Outreach,Nutrition
ATTACH;FMTTYPE=image/png:https://ndfht.ca/wp-content/uploads/2026/01/Purple-And-White-Playful-Childcare-Service-Flyer.png
ORGANIZER;CN="Nipigon District Family Health Team":MAILTO:reception@ndfht.ca
END:VEVENT
END:VCALENDAR