BEGIN:VCALENDAR
VERSION:2.0
PRODID:-//NIPIGON DISTRICT FAMILY HEALTH TEAM - ECPv6.15.20//NONSGML v1.0//EN
CALSCALE:GREGORIAN
METHOD:PUBLISH
X-WR-CALNAME:NIPIGON DISTRICT FAMILY HEALTH TEAM
X-ORIGINAL-URL:https://ndfht.ca
X-WR-CALDESC:Events for NIPIGON DISTRICT FAMILY HEALTH TEAM
REFRESH-INTERVAL;VALUE=DURATION:PT1H
X-Robots-Tag:noindex
X-PUBLISHED-TTL:PT1H
BEGIN:VTIMEZONE
TZID:UTC
BEGIN:STANDARD
TZOFFSETFROM:+0000
TZOFFSETTO:+0000
TZNAME:UTC
DTSTART:20250101T000000
END:STANDARD
END:VTIMEZONE
BEGIN:VEVENT
DTSTART;VALUE=DATE:20260403
DTEND;VALUE=DATE:20260404
DTSTAMP:20260420T113541
CREATED:20260327T130329Z
LAST-MODIFIED:20260327T130423Z
UID:1927-1775174400-1775260799@ndfht.ca
SUMMARY:Good Friday Closure
DESCRIPTION:
URL:https://ndfht.ca/event/good-friday-closure/
LOCATION:Nipigon District Family Health Team\, 123 Hogan Road\, Nipigon\, ON\, P0T 2J0\, Canada
CATEGORIES:Closure
ATTACH;FMTTYPE=image/png:https://ndfht.ca/wp-content/uploads/2026/03/Good-Friday-Closure26-scaled.png
ORGANIZER;CN="Nipigon District Family Health Team":MAILTO:reception@ndfht.ca
END:VEVENT
END:VCALENDAR